BEGIN:VCALENDAR
VERSION:2.0
PRODID:-//The Sewing Sanctuary IoW - ECPv6.0.13.1//NONSGML v1.0//EN
CALSCALE:GREGORIAN
METHOD:PUBLISH
X-WR-CALNAME:The Sewing Sanctuary IoW
X-ORIGINAL-URL:https://sewingsanctuaryiow.co.uk
X-WR-CALDESC:Events for The Sewing Sanctuary IoW
REFRESH-INTERVAL;VALUE=DURATION:PT1H
X-Robots-Tag:noindex
X-PUBLISHED-TTL:PT1H
BEGIN:VTIMEZONE
TZID:UTC
BEGIN:STANDARD
TZOFFSETFROM:+0000
TZOFFSETTO:+0000
TZNAME:UTC
DTSTART:20230101T000000
END:STANDARD
END:VTIMEZONE
BEGIN:VEVENT
DTSTART;TZID=UTC:20230624T100000
DTEND;TZID=UTC:20230624T130000
DTSTAMP:20260422T114848
CREATED:20230502T090334Z
LAST-MODIFIED:20230502T090334Z
UID:1139-1687600800-1687611600@sewingsanctuaryiow.co.uk
SUMMARY:Introduction to free-motion maching embroidery
DESCRIPTION:Introduction to free motion machine embroidery \nYour creative skills will flourish as we guide you through the basic skills of free machine embroidery. \nThese unique patterns are never as precise as machined automatic preset schemes.  Their charm and beauty lies in the fact that the machining is often slightly irregular\, thus producing a creative and original design. \nThe session will include: \nHow to set up your sewing machine \nUse of materials and equipment \nDeveloping your confidence \nHow to construct a make-up bag using your completed piece. \nLots of ideas for future projects! \nFull instruction\, a worksheet\, refreshments and fun included!
URL:https://sewingsanctuaryiow.co.uk/event/introduction-to-free-motion-maching-embroidery/
LOCATION:Hellerslea\, 5 Lugley St\,\, Newport\, Isle of Wight\, PO30 5HD\, United Kingdom
ATTACH;FMTTYPE=image/jpeg:https://sewingsanctuaryiow.co.uk/wp-content/uploads/2020/01/IMG_1903-1-rotated.jpg
ORGANIZER;CN="The%20Sewing%20Sanctuary%20IoW":MAILTO:contact@sewingsanctuaryiow.co.uk
END:VEVENT
BEGIN:VEVENT
DTSTART;TZID=UTC:20240110T093000
DTEND;TZID=UTC:20240110T113000
DTSTAMP:20260422T114848
CREATED:20240105T050202Z
LAST-MODIFIED:20240105T050926Z
UID:1229-1704879000-1704886200@sewingsanctuaryiow.co.uk
SUMMARY:Go Sew - 10/1/24
DESCRIPTION:Need some inspiration or advice?  Simply bring along any project you may be struggling with to one of our 'Go Sew' sessions. \nWhat's available: \nGuidance and tuition will be available to help you progress your own current project. \nHellerslea provides a great space for you to join like minded people who enjoy all aspects of being creative with fabric. \nNo experience is necessary; you may just want to come along and have a go at sewing. \nSewing machines\, irons and boards and cutting space is available. \nMinimum of 2 students per session. \nBooking required.
URL:https://sewingsanctuaryiow.co.uk/event/go-sew-session/
LOCATION:Hellerslea\, 5 Lugley St\,\, Newport\, Isle of Wight\, PO30 5HD\, United Kingdom
ATTACH;FMTTYPE=image/jpeg:https://sewingsanctuaryiow.co.uk/wp-content/uploads/2023/03/nggallery_import/2_20230325_0949031-e1704431190940.jpg
ORGANIZER;CN="The%20Sewing%20Sanctuary%20IoW":MAILTO:contact@sewingsanctuaryiow.co.uk
END:VEVENT
BEGIN:VEVENT
DTSTART;TZID=UTC:20240113T093000
DTEND;TZID=UTC:20240113T113000
DTSTAMP:20260422T114848
CREATED:20240105T051341Z
LAST-MODIFIED:20240105T051341Z
UID:1236-1705138200-1705145400@sewingsanctuaryiow.co.uk
SUMMARY:Go Sew - 13/1/24
DESCRIPTION:Need some inspiration or advice?  Simply bring along any project you may be struggling with to one of our 'Go Sew' sessions. \nWhat's available: \nGuidance and tuition will be available to help you progress your own current project. \nHellerslea provides a great space for you to join like minded people who enjoy all aspects of being creative with fabric. \nNo experience is necessary; you may just want to come along and have a go at sewing. \nSewing machines\, irons and boards and cutting space is available. \nMinimum of 2 students per session. \nBooking required.
URL:https://sewingsanctuaryiow.co.uk/event/go-sew-13-1-24/
LOCATION:Hellerslea\, 5 Lugley St\,\, Newport\, Isle of Wight\, PO30 5HD\, United Kingdom
ATTACH;FMTTYPE=image/jpeg:https://sewingsanctuaryiow.co.uk/wp-content/uploads/2023/03/nggallery_import/2_20230325_0949031-e1704431190940.jpg
ORGANIZER;CN="The%20Sewing%20Sanctuary%20IoW":MAILTO:contact@sewingsanctuaryiow.co.uk
END:VEVENT
BEGIN:VEVENT
DTSTART;TZID=UTC:20240124T093000
DTEND;TZID=UTC:20240124T113000
DTSTAMP:20260422T114848
CREATED:20240105T051821Z
LAST-MODIFIED:20240105T051821Z
UID:1238-1706088600-1706095800@sewingsanctuaryiow.co.uk
SUMMARY:Go Sew - 24/1/24
DESCRIPTION:Need some inspiration or advice?  Simply bring along any project you may be struggling with to one of our 'Go Sew' sessions. \nWhat's available: \nGuidance and tuition will be available to help you progress your own current project. \nHellerslea provides a great space for you to join like minded people who enjoy all aspects of being creative with fabric. \nNo experience is necessary; you may just want to come along and have a go at sewing. \nSewing machines\, irons and boards and cutting space is available. \nMinimum of 2 students per session. \nBooking required.
URL:https://sewingsanctuaryiow.co.uk/event/go-sew-24-1-24/
LOCATION:Hellerslea\, 5 Lugley St\,\, Newport\, Isle of Wight\, PO30 5HD\, United Kingdom
ATTACH;FMTTYPE=image/jpeg:https://sewingsanctuaryiow.co.uk/wp-content/uploads/2023/03/nggallery_import/2_20230325_0949031-e1704431190940.jpg
ORGANIZER;CN="The%20Sewing%20Sanctuary%20IoW":MAILTO:contact@sewingsanctuaryiow.co.uk
END:VEVENT
BEGIN:VEVENT
DTSTART;TZID=UTC:20240127T093000
DTEND;TZID=UTC:20240127T113000
DTSTAMP:20260422T114848
CREATED:20240105T052030Z
LAST-MODIFIED:20240105T052030Z
UID:1240-1706347800-1706355000@sewingsanctuaryiow.co.uk
SUMMARY:Go Sew - 27/1/24
DESCRIPTION:Need some inspiration or advice?  Simply bring along any project you may be struggling with to one of our 'Go Sew' sessions. \nWhat's available: \nGuidance and tuition will be available to help you progress your own current project. \nHellerslea provides a great space for you to join like minded people who enjoy all aspects of being creative with fabric. \nNo experience is necessary; you may just want to come along and have a go at sewing. \nSewing machines\, irons and boards and cutting space is available. \nMinimum of 2 students per session. \nBooking required.
URL:https://sewingsanctuaryiow.co.uk/event/go-sew-27-1-24/
LOCATION:Hellerslea\, 5 Lugley St\,\, Newport\, Isle of Wight\, PO30 5HD\, United Kingdom
ATTACH;FMTTYPE=image/jpeg:https://sewingsanctuaryiow.co.uk/wp-content/uploads/2023/03/nggallery_import/2_20230325_0949031-e1704431190940.jpg
ORGANIZER;CN="The%20Sewing%20Sanctuary%20IoW":MAILTO:contact@sewingsanctuaryiow.co.uk
END:VEVENT
BEGIN:VEVENT
DTSTART;TZID=UTC:20240207T093000
DTEND;TZID=UTC:20240207T113000
DTSTAMP:20260422T114848
CREATED:20240105T052159Z
LAST-MODIFIED:20240105T052159Z
UID:1242-1707298200-1707305400@sewingsanctuaryiow.co.uk
SUMMARY:Go Sew - 7/2/24
DESCRIPTION:Need some inspiration or advice?  Simply bring along any project you may be struggling with to one of our 'Go Sew' sessions. \nWhat's available: \nGuidance and tuition will be available to help you progress your own current project. \nHellerslea provides a great space for you to join like minded people who enjoy all aspects of being creative with fabric. \nNo experience is necessary; you may just want to come along and have a go at sewing. \nSewing machines\, irons and boards and cutting space is available. \nMinimum of 2 students per session. \nBooking required.
URL:https://sewingsanctuaryiow.co.uk/event/go-sew-7-2-24/
LOCATION:Hellerslea\, 5 Lugley St\,\, Newport\, Isle of Wight\, PO30 5HD\, United Kingdom
ATTACH;FMTTYPE=image/jpeg:https://sewingsanctuaryiow.co.uk/wp-content/uploads/2023/03/nggallery_import/2_20230325_0949031-e1704431190940.jpg
ORGANIZER;CN="The%20Sewing%20Sanctuary%20IoW":MAILTO:contact@sewingsanctuaryiow.co.uk
END:VEVENT
BEGIN:VEVENT
DTSTART;TZID=UTC:20240221T093000
DTEND;TZID=UTC:20240221T113000
DTSTAMP:20260422T114848
CREATED:20240105T052412Z
LAST-MODIFIED:20240105T052412Z
UID:1244-1708507800-1708515000@sewingsanctuaryiow.co.uk
SUMMARY:Go Sew - 21/2/24
DESCRIPTION:Need some inspiration or advice?  Simply bring along any project you may be struggling with to one of our 'Go Sew' sessions. \nWhat's available: \nGuidance and tuition will be available to help you progress your own current project. \nHellerslea provides a great space for you to join like minded people who enjoy all aspects of being creative with fabric. \nNo experience is necessary; you may just want to come along and have a go at sewing. \nSewing machines\, irons and boards and cutting space is available. \nMinimum of 2 students per session. \nBooking required.
URL:https://sewingsanctuaryiow.co.uk/event/go-sew-21-2-24/
LOCATION:Hellerslea\, 5 Lugley St\,\, Newport\, Isle of Wight\, PO30 5HD\, United Kingdom
ATTACH;FMTTYPE=image/jpeg:https://sewingsanctuaryiow.co.uk/wp-content/uploads/2023/03/nggallery_import/2_20230325_0949031-e1704431190940.jpg
ORGANIZER;CN="The%20Sewing%20Sanctuary%20IoW":MAILTO:contact@sewingsanctuaryiow.co.uk
END:VEVENT
BEGIN:VEVENT
DTSTART;TZID=UTC:20240228T093000
DTEND;TZID=UTC:20240228T113000
DTSTAMP:20260422T114848
CREATED:20240105T053006Z
LAST-MODIFIED:20240105T053006Z
UID:1248-1709112600-1709119800@sewingsanctuaryiow.co.uk
SUMMARY:Go Sew - 28/2/24
DESCRIPTION:Need some inspiration or advice?  Simply bring along any project you may be struggling with to one of our 'Go Sew' sessions. \nWhat's available: \nGuidance and tuition will be available to help you progress your own current project. \nHellerslea provides a great space for you to join like minded people who enjoy all aspects of being creative with fabric. \nNo experience is necessary; you may just want to come along and have a go at sewing. \nSewing machines\, irons and boards and cutting space is available. \nMinimum of 2 students per session. \nBooking required.
URL:https://sewingsanctuaryiow.co.uk/event/go-sew-28-2-24/
LOCATION:Hellerslea\, 5 Lugley St\,\, Newport\, Isle of Wight\, PO30 5HD\, United Kingdom
ATTACH;FMTTYPE=image/jpeg:https://sewingsanctuaryiow.co.uk/wp-content/uploads/2023/03/nggallery_import/2_20230325_0949031-e1704431190940.jpg
ORGANIZER;CN="The%20Sewing%20Sanctuary%20IoW":MAILTO:contact@sewingsanctuaryiow.co.uk
END:VEVENT
BEGIN:VEVENT
DTSTART;TZID=UTC:20240309T093000
DTEND;TZID=UTC:20240309T113000
DTSTAMP:20260422T114848
CREATED:20240117T110115Z
LAST-MODIFIED:20240117T110115Z
UID:1270-1709976600-1709983800@sewingsanctuaryiow.co.uk
SUMMARY:Go Sew - 9/3/24
DESCRIPTION:Need some inspiration or advice?  Simply bring along any project you may be struggling with to one of our 'Go Sew' sessions. \nWhat's available: \nGuidance and tuition will be available to help you progress your own current project. \nHellerslea provides a great space for you to join like minded people who enjoy all aspects of being creative with fabric. \nNo experience is necessary; you may just want to come along and have a go at sewing. \nSewing machines\, irons and boards and cutting space is available. \nMinimum of 2 students per session. \nBooking required.
URL:https://sewingsanctuaryiow.co.uk/event/go-sew-9-3-24/
LOCATION:Hellerslea\, 5 Lugley St\,\, Newport\, Isle of Wight\, PO30 5HD\, United Kingdom
ATTACH;FMTTYPE=image/jpeg:https://sewingsanctuaryiow.co.uk/wp-content/uploads/2023/03/nggallery_import/2_20230325_0949031-e1704431190940.jpg
ORGANIZER;CN="The%20Sewing%20Sanctuary%20IoW":MAILTO:contact@sewingsanctuaryiow.co.uk
END:VEVENT
BEGIN:VEVENT
DTSTART;TZID=UTC:20240313T093000
DTEND;TZID=UTC:20240313T113000
DTSTAMP:20260422T114848
CREATED:20240117T110259Z
LAST-MODIFIED:20240117T110259Z
UID:1272-1710322200-1710329400@sewingsanctuaryiow.co.uk
SUMMARY:13/3/24 - Go Sew
DESCRIPTION:Need some inspiration or advice?  Simply bring along any project you may be struggling with to one of our 'Go Sew' sessions. \nWhat's available: \nGuidance and tuition will be available to help you progress your own current project. \nHellerslea provides a great space for you to join like minded people who enjoy all aspects of being creative with fabric. \nNo experience is necessary; you may just want to come along and have a go at sewing. \nSewing machines\, irons and boards and cutting space is available. \nMinimum of 2 students per session. \nBooking required.
URL:https://sewingsanctuaryiow.co.uk/event/13-3-24-go-sew/
LOCATION:Hellerslea\, 5 Lugley St\,\, Newport\, Isle of Wight\, PO30 5HD\, United Kingdom
ATTACH;FMTTYPE=image/jpeg:https://sewingsanctuaryiow.co.uk/wp-content/uploads/2023/03/nggallery_import/2_20230325_0949031-e1704431190940.jpg
ORGANIZER;CN="The%20Sewing%20Sanctuary%20IoW":MAILTO:contact@sewingsanctuaryiow.co.uk
END:VEVENT
BEGIN:VEVENT
DTSTART;TZID=UTC:20240315T093000
DTEND;TZID=UTC:20240315T113000
DTSTAMP:20260422T114848
CREATED:20240117T110440Z
LAST-MODIFIED:20240117T110440Z
UID:1274-1710495000-1710502200@sewingsanctuaryiow.co.uk
SUMMARY:15/3/24 - Go Sew
DESCRIPTION:Need some inspiration or advice?  Simply bring along any project you may be struggling with to one of our 'Go Sew' sessions. \nWhat's available: \nGuidance and tuition will be available to help you progress your own current project. \nHellerslea provides a great space for you to join like minded people who enjoy all aspects of being creative with fabric. \nNo experience is necessary; you may just want to come along and have a go at sewing. \nSewing machines\, irons and boards and cutting space is available. \nMinimum of 2 students per session. \nBooking required.
URL:https://sewingsanctuaryiow.co.uk/event/15-3-24-go-sew/
LOCATION:Hellerslea\, 5 Lugley St\,\, Newport\, Isle of Wight\, PO30 5HD\, United Kingdom
ATTACH;FMTTYPE=image/jpeg:https://sewingsanctuaryiow.co.uk/wp-content/uploads/2023/03/nggallery_import/2_20230325_0949031-e1704431190940.jpg
ORGANIZER;CN="The%20Sewing%20Sanctuary%20IoW":MAILTO:contact@sewingsanctuaryiow.co.uk
END:VEVENT
BEGIN:VEVENT
DTSTART;TZID=UTC:20240316T093000
DTEND;TZID=UTC:20240316T113000
DTSTAMP:20260422T114848
CREATED:20240117T110645Z
LAST-MODIFIED:20240117T110645Z
UID:1276-1710581400-1710588600@sewingsanctuaryiow.co.uk
SUMMARY:16/3/24 - Go Sew
DESCRIPTION:Need some inspiration or advice?  Simply bring along any project you may be struggling with to one of our 'Go Sew' sessions. \nWhat's available: \nGuidance and tuition will be available to help you progress your own current project. \nHellerslea provides a great space for you to join like minded people who enjoy all aspects of being creative with fabric. \nNo experience is necessary; you may just want to come along and have a go at sewing. \nSewing machines\, irons and boards and cutting space is available. \nMinimum of 2 students per session. \nBooking required.
URL:https://sewingsanctuaryiow.co.uk/event/16-3-24-go-sew/
LOCATION:Hellerslea\, 5 Lugley St\,\, Newport\, Isle of Wight\, PO30 5HD\, United Kingdom
ATTACH;FMTTYPE=image/jpeg:https://sewingsanctuaryiow.co.uk/wp-content/uploads/2023/03/nggallery_import/2_20230325_0949031-e1704431190940.jpg
ORGANIZER;CN="The%20Sewing%20Sanctuary%20IoW":MAILTO:contact@sewingsanctuaryiow.co.uk
END:VEVENT
BEGIN:VEVENT
DTSTART;TZID=UTC:20240322T093000
DTEND;TZID=UTC:20240322T113000
DTSTAMP:20260422T114848
CREATED:20240117T110837Z
LAST-MODIFIED:20240117T110837Z
UID:1278-1711099800-1711107000@sewingsanctuaryiow.co.uk
SUMMARY:22/3/24 - Go Sew
DESCRIPTION:Need some inspiration or advice?  Simply bring along any project you may be struggling with to one of our 'Go Sew' sessions. \nWhat's available: \nGuidance and tuition will be available to help you progress your own current project. \nHellerslea provides a great space for you to join like minded people who enjoy all aspects of being creative with fabric. \nNo experience is necessary; you may just want to come along and have a go at sewing. \nSewing machines\, irons and boards and cutting space is available. \nMinimum of 2 students per session. \nBooking required.
URL:https://sewingsanctuaryiow.co.uk/event/22-3-24-go-sew/
LOCATION:Hellerslea\, 5 Lugley St\,\, Newport\, Isle of Wight\, PO30 5HD\, United Kingdom
ATTACH;FMTTYPE=image/jpeg:https://sewingsanctuaryiow.co.uk/wp-content/uploads/2023/03/nggallery_import/2_20230325_0949031-e1704431190940.jpg
ORGANIZER;CN="The%20Sewing%20Sanctuary%20IoW":MAILTO:contact@sewingsanctuaryiow.co.uk
END:VEVENT
BEGIN:VEVENT
DTSTART;TZID=UTC:20240323T093000
DTEND;TZID=UTC:20240323T113000
DTSTAMP:20260422T114848
CREATED:20240117T111021Z
LAST-MODIFIED:20240117T111021Z
UID:1280-1711186200-1711193400@sewingsanctuaryiow.co.uk
SUMMARY:23/3/24 - Go Sew
DESCRIPTION:Need some inspiration or advice?  Simply bring along any project you may be struggling with to one of our 'Go Sew' sessions. \nWhat's available: \nGuidance and tuition will be available to help you progress your own current project. \nHellerslea provides a great space for you to join like minded people who enjoy all aspects of being creative with fabric. \nNo experience is necessary; you may just want to come along and have a go at sewing. \nSewing machines\, irons and boards and cutting space is available. \nMinimum of 2 students per session. \nBooking required.
URL:https://sewingsanctuaryiow.co.uk/event/23-3-24-go-sew/
LOCATION:Hellerslea\, 5 Lugley St\,\, Newport\, Isle of Wight\, PO30 5HD\, United Kingdom
ATTACH;FMTTYPE=image/jpeg:https://sewingsanctuaryiow.co.uk/wp-content/uploads/2023/03/nggallery_import/2_20230325_0949031-e1704431190940.jpg
ORGANIZER;CN="The%20Sewing%20Sanctuary%20IoW":MAILTO:contact@sewingsanctuaryiow.co.uk
END:VEVENT
BEGIN:VEVENT
DTSTART;TZID=UTC:20240327T093000
DTEND;TZID=UTC:20240327T113000
DTSTAMP:20260422T114848
CREATED:20240117T111214Z
LAST-MODIFIED:20240117T111214Z
UID:1282-1711531800-1711539000@sewingsanctuaryiow.co.uk
SUMMARY:27/3/24 - Go Sew
DESCRIPTION:Need some inspiration or advice?  Simply bring along any project you may be struggling with to one of our 'Go Sew' sessions. \nWhat's available: \nGuidance and tuition will be available to help you progress your own current project. \nHellerslea provides a great space for you to join like minded people who enjoy all aspects of being creative with fabric. \nNo experience is necessary; you may just want to come along and have a go at sewing. \nSewing machines\, irons and boards and cutting space is available. \nMinimum of 2 students per session. \nBooking required.
URL:https://sewingsanctuaryiow.co.uk/event/27-3-24-go-sew/
LOCATION:Hellerslea\, 5 Lugley St\,\, Newport\, Isle of Wight\, PO30 5HD\, United Kingdom
ATTACH;FMTTYPE=image/jpeg:https://sewingsanctuaryiow.co.uk/wp-content/uploads/2023/03/nggallery_import/2_20230325_0949031-e1704431190940.jpg
ORGANIZER;CN="The%20Sewing%20Sanctuary%20IoW":MAILTO:contact@sewingsanctuaryiow.co.uk
END:VEVENT
END:VCALENDAR