BEGIN:VCALENDAR
VERSION:2.0
PRODID:-//The Sewing Sanctuary IoW - ECPv6.0.13.1//NONSGML v1.0//EN
CALSCALE:GREGORIAN
METHOD:PUBLISH
X-ORIGINAL-URL:https://sewingsanctuaryiow.co.uk
X-WR-CALDESC:Events for The Sewing Sanctuary IoW
REFRESH-INTERVAL;VALUE=DURATION:PT1H
X-Robots-Tag:noindex
X-PUBLISHED-TTL:PT1H
BEGIN:VTIMEZONE
TZID:UTC
BEGIN:STANDARD
TZOFFSETFROM:+0000
TZOFFSETTO:+0000
TZNAME:UTC
DTSTART:20230101T000000
END:STANDARD
END:VTIMEZONE
BEGIN:VEVENT
DTSTART;TZID=UTC:20230617T100000
DTEND;TZID=UTC:20230617T130000
DTSTAMP:20260422T072734
CREATED:20230502T090045Z
LAST-MODIFIED:20230502T090045Z
UID:1136-1686996000-1687006800@sewingsanctuaryiow.co.uk
SUMMARY:Learn to sew session
DESCRIPTION:Learn to sew session\n \nMake friends with your sewing machine and discover all the wonderful things it can do for you.  We will get you started on the road to making fabulous items for your family\, friends and just as importantly for you. Come and immerse yourself in an atmosphere of sewing and discovery.  We will soon have you confidently ‘tackling’ small projects with ease and a ‘seamless’ finish!  \nThis session will include:  \nLearn about all aspects of your sewing machine \nStitch tension and how to resolve problems \nSewing in straight lines\, curves and corners \nProduce seam samples to take away \nZip sample to take away \nHems  \nYou will leave the session with new skills and a log cabin pot holder/cushion cover. \nFull instruction\, a worksheet\, refreshments and fun included!
URL:https://sewingsanctuaryiow.co.uk/event/learn-to-sew-session/
LOCATION:Hellerslea\, 5 Lugley St\,\, Newport\, Isle of Wight\, PO30 5HD\, United Kingdom
ATTACH;FMTTYPE=image/jpeg:https://sewingsanctuaryiow.co.uk/wp-content/uploads/2020/01/log-cabin-e1580070735423.jpg
ORGANIZER;CN="The%20Sewing%20Sanctuary%20IoW":MAILTO:contact@sewingsanctuaryiow.co.uk
END:VEVENT
END:VCALENDAR