BEGIN:VCALENDAR
VERSION:2.0
PRODID:-//The Sewing Sanctuary IoW - ECPv6.0.13.1//NONSGML v1.0//EN
CALSCALE:GREGORIAN
METHOD:PUBLISH
X-ORIGINAL-URL:https://sewingsanctuaryiow.co.uk
X-WR-CALDESC:Events for The Sewing Sanctuary IoW
REFRESH-INTERVAL;VALUE=DURATION:PT1H
X-Robots-Tag:noindex
X-PUBLISHED-TTL:PT1H
BEGIN:VTIMEZONE
TZID:UTC
BEGIN:STANDARD
TZOFFSETFROM:+0000
TZOFFSETTO:+0000
TZNAME:UTC
DTSTART:20230101T000000
END:STANDARD
END:VTIMEZONE
BEGIN:VEVENT
DTSTART;TZID=UTC:20230527T100000
DTEND;TZID=UTC:20230527T130000
DTSTAMP:20260424T111607
CREATED:20230302T205244Z
LAST-MODIFIED:20230302T205244Z
UID:1001-1685181600-1685192400@sewingsanctuaryiow.co.uk
SUMMARY:‘Best foot forward’ expanding skill session - overlocker t-shirt
DESCRIPTION:Stretch yourself by joining us to make a t-shirt with your overlocker!  Using beautiful soft jersey fabrics you can create a comfortable garment that you will use again and again.
URL:https://sewingsanctuaryiow.co.uk/event/best-foot-forward-expanding-skill-session-overlocker-t-shirt/
LOCATION:Hellerslea\, 5 Lugley St\,\, Newport\, Isle of Wight\, PO30 5HD\, United Kingdom
ORGANIZER;CN="The%20Sewing%20Sanctuary%20IoW":MAILTO:contact@sewingsanctuaryiow.co.uk
END:VEVENT
END:VCALENDAR