BEGIN:VCALENDAR
VERSION:2.0
PRODID:-//The Sewing Sanctuary IoW - ECPv6.0.13.1//NONSGML v1.0//EN
CALSCALE:GREGORIAN
METHOD:PUBLISH
X-WR-CALNAME:The Sewing Sanctuary IoW
X-ORIGINAL-URL:https://sewingsanctuaryiow.co.uk
X-WR-CALDESC:Events for The Sewing Sanctuary IoW
REFRESH-INTERVAL;VALUE=DURATION:PT1H
X-Robots-Tag:noindex
X-PUBLISHED-TTL:PT1H
BEGIN:VTIMEZONE
TZID:UTC
BEGIN:STANDARD
TZOFFSETFROM:+0000
TZOFFSETTO:+0000
TZNAME:UTC
DTSTART:20230101T000000
END:STANDARD
END:VTIMEZONE
BEGIN:VEVENT
DTSTART;TZID=UTC:20230513T100000
DTEND;TZID=UTC:20230513T130000
DTSTAMP:20260422T090605
CREATED:20230302T205027Z
LAST-MODIFIED:20230302T205027Z
UID:999-1683972000-1683982800@sewingsanctuaryiow.co.uk
SUMMARY:‘Find your feet’ starter overlocker class
DESCRIPTION:Do you have an overlocker that you purchased on a whim?  Have you tried to use it and ended up in a bit of pickle?  Make friends with your overlocker and you will soon be using your machine for many of your favourite sewing projects.
URL:https://sewingsanctuaryiow.co.uk/event/find-your-feet-starter-overlocker-class/
LOCATION:Hellerslea\, 5 Lugley St\,\, Newport\, Isle of Wight\, PO30 5HD\, United Kingdom
ORGANIZER;CN="The%20Sewing%20Sanctuary%20IoW":MAILTO:contact@sewingsanctuaryiow.co.uk
END:VEVENT
END:VCALENDAR