BEGIN:VCALENDAR
VERSION:2.0
PRODID:-//The Sewing Sanctuary IoW - ECPv6.0.13.1//NONSGML v1.0//EN
CALSCALE:GREGORIAN
METHOD:PUBLISH
X-WR-CALNAME:The Sewing Sanctuary IoW
X-ORIGINAL-URL:https://sewingsanctuaryiow.co.uk
X-WR-CALDESC:Events for The Sewing Sanctuary IoW
REFRESH-INTERVAL;VALUE=DURATION:PT1H
X-Robots-Tag:noindex
X-PUBLISHED-TTL:PT1H
BEGIN:VTIMEZONE
TZID:UTC
BEGIN:STANDARD
TZOFFSETFROM:+0000
TZOFFSETTO:+0000
TZNAME:UTC
DTSTART:20230101T000000
END:STANDARD
END:VTIMEZONE
BEGIN:VEVENT
DTSTART;TZID=UTC:20230426T100000
DTEND;TZID=UTC:20230426T130000
DTSTAMP:20260424T111012
CREATED:20230302T205912Z
LAST-MODIFIED:20230302T205912Z
UID:987-1682503200-1682514000@sewingsanctuaryiow.co.uk
SUMMARY:‘Make ends meet’ Roman Blind course
DESCRIPTION:A gorgeous blind can make all the difference to a room\, and a relatively cost effective way of achieving this is to use a roman blind. 
URL:https://sewingsanctuaryiow.co.uk/event/make-ends-meet-roman-blind-course/
LOCATION:Hellerslea\, 5 Lugley St\,\, Newport\, Isle of Wight\, PO30 5HD\, United Kingdom
ORGANIZER;CN="The%20Sewing%20Sanctuary%20IoW":MAILTO:contact@sewingsanctuaryiow.co.uk
END:VEVENT
END:VCALENDAR