BEGIN:VCALENDAR
VERSION:2.0
PRODID:-//The Sewing Sanctuary IoW - ECPv6.0.13.1//NONSGML v1.0//EN
CALSCALE:GREGORIAN
METHOD:PUBLISH
X-ORIGINAL-URL:https://sewingsanctuaryiow.co.uk
X-WR-CALDESC:Events for The Sewing Sanctuary IoW
REFRESH-INTERVAL;VALUE=DURATION:PT1H
X-Robots-Tag:noindex
X-PUBLISHED-TTL:PT1H
BEGIN:VTIMEZONE
TZID:UTC
BEGIN:STANDARD
TZOFFSETFROM:+0000
TZOFFSETTO:+0000
TZNAME:UTC
DTSTART:20230101T000000
END:STANDARD
END:VTIMEZONE
BEGIN:VEVENT
DTSTART;TZID=UTC:20230422T093000
DTEND;TZID=UTC:20230422T133000
DTSTAMP:20260424T140139
CREATED:20230302T205601Z
LAST-MODIFIED:20230302T205601Z
UID:1003-1682155800-1682170200@sewingsanctuaryiow.co.uk
SUMMARY:‘Dressed to the nines’ expanding skill session - introduction to dress-making
DESCRIPTION:Do you long to be ‘dressed to the nines’ in a garment that you have made?  Here at the Sewing Sanctuary we offer a supported learning space to enable you to realise your dreams of  producing professionally finished garments that fit you perfectl \n\n\n\n		\n				\n				        \n            \n                \n            \n        \n							 \n			\n				\n				        \n            \n                \n            \n        \n							 \n			\n				\n				        \n            \n                \n            \n        \n							 \n			\n				\n				        \n            \n                \n            \n        \n							 \n			\n	\n	\n\n	\n		\n		\ny.
URL:https://sewingsanctuaryiow.co.uk/event/dressed-to-the-nines-expanding-skill-session-introduction-to-dress-making/
LOCATION:Hellerslea\, 5 Lugley St\,\, Newport\, Isle of Wight\, PO30 5HD\, United Kingdom
ORGANIZER;CN="The%20Sewing%20Sanctuary%20IoW":MAILTO:contact@sewingsanctuaryiow.co.uk
END:VEVENT
END:VCALENDAR