BEGIN:VCALENDAR
VERSION:2.0
PRODID:-//The Sewing Sanctuary IoW - ECPv6.0.13.1//NONSGML v1.0//EN
CALSCALE:GREGORIAN
METHOD:PUBLISH
X-ORIGINAL-URL:https://sewingsanctuaryiow.co.uk
X-WR-CALDESC:Events for The Sewing Sanctuary IoW
REFRESH-INTERVAL;VALUE=DURATION:PT1H
X-Robots-Tag:noindex
X-PUBLISHED-TTL:PT1H
BEGIN:VTIMEZONE
TZID:UTC
BEGIN:STANDARD
TZOFFSETFROM:+0000
TZOFFSETTO:+0000
TZNAME:UTC
DTSTART:20230101T000000
END:STANDARD
END:VTIMEZONE
BEGIN:VEVENT
DTSTART;TZID=UTC:20230415T100000
DTEND;TZID=UTC:20230415T130000
DTSTAMP:20260424T140831
CREATED:20230302T204508Z
LAST-MODIFIED:20230326T070442Z
UID:984-1681552800-1681563600@sewingsanctuaryiow.co.uk
SUMMARY:'Silver lining' free motion machine embroidery - SOLD OUT
DESCRIPTION:Have you ever wanted to combine art with sewing?  You’ll be as busy as a sewing bee with one of our \nmachine embroidery classes.  This unique method of stitchery is limited only by your own imagination!  Come and join us for a ‘Silver lining’ free motion embroidery class.  Every cloud has one!
URL:https://sewingsanctuaryiow.co.uk/event/silver-lining-free-motion-machine-embroidery/
LOCATION:The Hut\, Godshill\, 11 Hollow Glade\, Godshill\, Isle of Wight\, PO38 3JQ\, United Kingdom
ORGANIZER;CN="The%20Sewing%20Sanctuary%20IoW":MAILTO:contact@sewingsanctuaryiow.co.uk
END:VEVENT
END:VCALENDAR