BEGIN:VCALENDAR
VERSION:2.0
PRODID:-//The Sewing Sanctuary IoW - ECPv6.0.13.1//NONSGML v1.0//EN
CALSCALE:GREGORIAN
METHOD:PUBLISH
X-WR-CALNAME:The Sewing Sanctuary IoW
X-ORIGINAL-URL:https://sewingsanctuaryiow.co.uk
X-WR-CALDESC:Events for The Sewing Sanctuary IoW
REFRESH-INTERVAL;VALUE=DURATION:PT1H
X-Robots-Tag:noindex
X-PUBLISHED-TTL:PT1H
BEGIN:VTIMEZONE
TZID:UTC
BEGIN:STANDARD
TZOFFSETFROM:+0000
TZOFFSETTO:+0000
TZNAME:UTC
DTSTART:20230101T000000
END:STANDARD
END:VTIMEZONE
BEGIN:VEVENT
DTSTART;TZID=UTC:20230405T100000
DTEND;TZID=UTC:20230405T130000
DTSTAMP:20260424T111022
CREATED:20230302T084432Z
LAST-MODIFIED:20230329T155926Z
UID:978-1680688800-1680699600@sewingsanctuaryiow.co.uk
SUMMARY:‘Cotton-picking’ quilting starter class - SOLD OUT
DESCRIPTION:Our quilting starter class will get your creative ideas flowing by providing you with the skills to start this addictive method of cutting up perfectly good fabric and sewing it back together again!  You can also use cherished items to make a quilt that will continue to bring joy and comfort.
URL:https://sewingsanctuaryiow.co.uk/event/cotton-picking-quilting-starter-class/
LOCATION:The Hut\, Godshill\, 11 Hollow Glade\, Godshill\, Isle of Wight\, PO38 3JQ\, United Kingdom
ORGANIZER;CN="The%20Sewing%20Sanctuary%20IoW":MAILTO:contact@sewingsanctuaryiow.co.uk
END:VEVENT
END:VCALENDAR