BEGIN:VCALENDAR
VERSION:2.0
PRODID:-//The Sewing Sanctuary IoW - ECPv6.0.13.1//NONSGML v1.0//EN
CALSCALE:GREGORIAN
METHOD:PUBLISH
X-ORIGINAL-URL:https://sewingsanctuaryiow.co.uk
X-WR-CALDESC:Events for The Sewing Sanctuary IoW
REFRESH-INTERVAL;VALUE=DURATION:PT1H
X-Robots-Tag:noindex
X-PUBLISHED-TTL:PT1H
BEGIN:VTIMEZONE
TZID:UTC
BEGIN:STANDARD
TZOFFSETFROM:+0000
TZOFFSETTO:+0000
TZNAME:UTC
DTSTART:20230101T000000
END:STANDARD
END:VTIMEZONE
BEGIN:VEVENT
DTSTART;TZID=UTC:20230401T100000
DTEND;TZID=UTC:20230401T130000
DTSTAMP:20260424T111552
CREATED:20230302T083902Z
LAST-MODIFIED:20230302T083902Z
UID:976-1680343200-1680354000@sewingsanctuaryiow.co.uk
SUMMARY:'Practice makes perfect' expanding skill session - tote bag with zippered pouch
DESCRIPTION:Does the thought of inserting zips give you a cold sweat?  Do you want to get your ’teeth’ into a new skill? \nJoin us for a ‘practice makes perfect’ expanding skill session and leave with a gorgeous tote bag\, including zippered pouch!
URL:https://sewingsanctuaryiow.co.uk/event/practice-makes-perfect-expanding-skill-session-tote-bag-with-zippered-pouch/
LOCATION:Hellerslea\, 5 Lugley St\,\, Newport\, Isle of Wight\, PO30 5HD\, United Kingdom
ORGANIZER;CN="The%20Sewing%20Sanctuary%20IoW":MAILTO:contact@sewingsanctuaryiow.co.uk
END:VEVENT
END:VCALENDAR